BEGIN:VCALENDAR
VERSION:2.0
PRODID:-//Laughing Skull Lounge - ECPv6.13.2.1//NONSGML v1.0//EN
CALSCALE:GREGORIAN
METHOD:PUBLISH
X-ORIGINAL-URL:https://laughingskulllounge.com
X-WR-CALDESC:Events for Laughing Skull Lounge
REFRESH-INTERVAL;VALUE=DURATION:PT1H
X-Robots-Tag:noindex
X-PUBLISHED-TTL:PT1H
BEGIN:VTIMEZONE
TZID:America/New_York
BEGIN:DAYLIGHT
TZOFFSETFROM:-0500
TZOFFSETTO:-0400
TZNAME:EDT
DTSTART:20260308T070000
END:DAYLIGHT
BEGIN:STANDARD
TZOFFSETFROM:-0400
TZOFFSETTO:-0500
TZNAME:EST
DTSTART:20261101T060000
END:STANDARD
END:VTIMEZONE
BEGIN:VEVENT
DTSTART;TZID=America/New_York:20260316T200000
DTEND;TZID=America/New_York:20260316T213000
DTSTAMP:20260421T054646
CREATED:20260219T004311Z
LAST-MODIFIED:20260219T004311Z
UID:10001506-1773691200-1773696600@laughingskulllounge.com
SUMMARY:Open Mic Night - Monday March 16 at 8:00PM
DESCRIPTION:
URL:https://laughingskulllounge.com/event/open-mic-night-monday-march-16-2026-at-800pm/
LOCATION:Laughing Skull Lounge\, 878 Peachtree Street\, Atlanta\, GA\, 30309\, United States
END:VEVENT
BEGIN:VEVENT
DTSTART;TZID=America/New_York:20260315T193000
DTEND;TZID=America/New_York:20260315T213000
DTSTAMP:20260421T054646
CREATED:20260219T020505Z
LAST-MODIFIED:20260219T020505Z
UID:10001520-1773603000-1773610200@laughingskulllounge.com
SUMMARY:Best Of Atlanta Comedy Showcase - Sunday March 15 at 7:30pm
DESCRIPTION:
URL:https://laughingskulllounge.com/event/best-of-atlanta-comedy-showcase-sunday-march-15-2026-at-730pm/
LOCATION:Laughing Skull Lounge\, 878 Peachtree Street\, Atlanta\, GA\, 30309\, United States
END:VEVENT
BEGIN:VEVENT
DTSTART;TZID=America/New_York:20260314T223000
DTEND;TZID=America/New_York:20260314T233000
DTSTAMP:20260421T054646
CREATED:20260219T023913Z
LAST-MODIFIED:20260219T023913Z
UID:10001534-1773527400-1773531000@laughingskulllounge.com
SUMMARY:Best of Atlanta Comedy Showcase - Saturday March 14 at 10:30PM
DESCRIPTION:
URL:https://laughingskulllounge.com/event/best-of-atlanta-comedy-showcase-saturday-march-14-2026-at-1030pm/
LOCATION:Laughing Skull Lounge\, 878 Peachtree Street\, Atlanta\, GA\, 30309\, United States
END:VEVENT
BEGIN:VEVENT
DTSTART;TZID=America/New_York:20260314T200000
DTEND;TZID=America/New_York:20260314T213000
DTSTAMP:20260421T054646
CREATED:20260219T023906Z
LAST-MODIFIED:20260219T023906Z
UID:10001533-1773518400-1773523800@laughingskulllounge.com
SUMMARY:Best of Atlanta Comedy Showcase - Saturday March 14 at 8:00PM
DESCRIPTION:
URL:https://laughingskulllounge.com/event/best-of-atlanta-comedy-showcase-saturday-march-14-2026-at-800pm/
LOCATION:Laughing Skull Lounge\, 878 Peachtree Street\, Atlanta\, GA\, 30309\, United States
END:VEVENT
BEGIN:VEVENT
DTSTART;TZID=America/New_York:20260314T173000
DTEND;TZID=America/New_York:20260314T183000
DTSTAMP:20260421T054646
CREATED:20260219T023901Z
LAST-MODIFIED:20260219T023901Z
UID:10001532-1773509400-1773513000@laughingskulllounge.com
SUMMARY:Best of Atlanta Comedy Showcase - Saturday March 14 at 5:30PM
DESCRIPTION:
URL:https://laughingskulllounge.com/event/best-of-atlanta-comedy-showcase-saturday-march-14-2026-at-530pm/
LOCATION:Laughing Skull Lounge\, 878 Peachtree Street\, Atlanta\, GA\, 30309\, United States
END:VEVENT
BEGIN:VEVENT
DTSTART;TZID=America/New_York:20260314T100000
DTEND;TZID=America/New_York:20260314T170000
DTSTAMP:20260421T054646
CREATED:20251125T211303Z
LAST-MODIFIED:20260222T012556Z
UID:10001396-1773482400-1773507600@laughingskulllounge.com
SUMMARY:Laughing Skull Lounge Stand-Up Comedy Class - March 14\, 2026
DESCRIPTION:The Laughing Skull Lounge Stand Up comedy class is a six week comedy course that ends with a graduation show! We apply lessons from the best comedians in the country and help you create a solid 5-8 minute set to use as you wish. We sell out almost every class\, so if you are interested\, we suggest you sign up now! \nClasses are on Saturdays from 10:00 am to 1:00 pm at the world famous Laughing Skull Lounge.
URL:https://laughingskulllounge.com/event/laughing-skull-lounge-stand-up-comedy-class-march-14-2026/
LOCATION:Laughing Skull Lounge\, 878 Peachtree Street\, Atlanta\, GA\, 30309\, United States
END:VEVENT
BEGIN:VEVENT
DTSTART;TZID=America/New_York:20260313T223000
DTEND;TZID=America/New_York:20260313T233000
DTSTAMP:20260421T054646
CREATED:20260219T021405Z
LAST-MODIFIED:20260219T021405Z
UID:10001524-1773441000-1773444600@laughingskulllounge.com
SUMMARY:Best of Atlanta Comedy Showcase - Friday March 13 at 10:30PM
DESCRIPTION:
URL:https://laughingskulllounge.com/event/best-of-atlanta-comedy-showcase-friday-march-13-2026-at-1030pm/
LOCATION:Laughing Skull Lounge\, 878 Peachtree Street\, Atlanta\, GA\, 30309\, United States
END:VEVENT
BEGIN:VEVENT
DTSTART;TZID=America/New_York:20260313T200000
DTEND;TZID=America/New_York:20260313T213000
DTSTAMP:20260421T054646
CREATED:20260219T021407Z
LAST-MODIFIED:20260219T021407Z
UID:10001523-1773432000-1773437400@laughingskulllounge.com
SUMMARY:Best of Atlanta Comedy Showcase - Friday March 13 at 8:00pm
DESCRIPTION:
URL:https://laughingskulllounge.com/event/best-of-atlanta-comedy-showcase-friday-march-13-2026-at-800pm/
LOCATION:Laughing Skull Lounge\, 878 Peachtree Street\, Atlanta\, GA\, 30309\, United States
END:VEVENT
BEGIN:VEVENT
DTSTART;TZID=America/New_York:20260312T200000
DTEND;TZID=America/New_York:20260312T213000
DTSTAMP:20260421T054646
CREATED:20260219T014705Z
LAST-MODIFIED:20260219T014705Z
UID:10001516-1773345600-1773351000@laughingskulllounge.com
SUMMARY:Best of Atlanta Comedy Showcase - Thursday March 12 at 8:00PM
DESCRIPTION:
URL:https://laughingskulllounge.com/event/best-of-atlanta-comedy-showcase-thursday-march-12-2026-at-800pm/
LOCATION:Laughing Skull Lounge\, 878 Peachtree Street\, Atlanta\, GA\, 30309\, United States
END:VEVENT
BEGIN:VEVENT
DTSTART;TZID=America/New_York:20260311T200000
DTEND;TZID=America/New_York:20260311T213000
DTSTAMP:20260421T054646
CREATED:20260219T012128Z
LAST-MODIFIED:20260219T012128Z
UID:10001513-1773259200-1773264600@laughingskulllounge.com
SUMMARY:Open Mic Night - Wednesday March 11 at 8:00PM
DESCRIPTION:
URL:https://laughingskulllounge.com/event/open-mic-night-wednesday-march-11-2026-at-800pm/
LOCATION:Laughing Skull Lounge\, 878 Peachtree Street\, Atlanta\, GA\, 30309\, United States
END:VEVENT
BEGIN:VEVENT
DTSTART;TZID=America/New_York:20260310T200000
DTEND;TZID=America/New_York:20260310T213000
DTSTAMP:20260421T054646
CREATED:20260219T005406Z
LAST-MODIFIED:20260219T005406Z
UID:10001509-1773172800-1773178200@laughingskulllounge.com
SUMMARY:Open Mic Night - Tuesday March 10 at 8:00PM
DESCRIPTION:
URL:https://laughingskulllounge.com/event/open-mic-night-tuesday-march-10-2026-at-800pm/
LOCATION:Laughing Skull Lounge\, 878 Peachtree Street\, Atlanta\, GA\, 30309\, United States
END:VEVENT
BEGIN:VEVENT
DTSTART;TZID=America/New_York:20260309T200000
DTEND;TZID=America/New_York:20260309T213000
DTSTAMP:20260421T054646
CREATED:20260219T003832Z
LAST-MODIFIED:20260219T004132Z
UID:10001505-1773086400-1773091800@laughingskulllounge.com
SUMMARY:Open Mic Night - Monday March 9 at 8:00PM
DESCRIPTION:
URL:https://laughingskulllounge.com/event/open-mic-night-monday-march-9-2026-at-800pm/
LOCATION:Laughing Skull Lounge\, 878 Peachtree Street\, Atlanta\, GA\, 30309\, United States
END:VEVENT
BEGIN:VEVENT
DTSTART;TZID=America/New_York:20260308T193000
DTEND;TZID=America/New_York:20260308T213000
DTSTAMP:20260421T054646
CREATED:20260219T015606Z
LAST-MODIFIED:20260219T015606Z
UID:10001519-1772998200-1773005400@laughingskulllounge.com
SUMMARY:Best Of Atlanta Comedy Showcase - Sunday March 8 at 7:30pm
DESCRIPTION:
URL:https://laughingskulllounge.com/event/best-of-atlanta-comedy-showcase-sunday-march-8-2026-at-730pm/
LOCATION:Laughing Skull Lounge\, 878 Peachtree Street\, Atlanta\, GA\, 30309\, United States
END:VEVENT
BEGIN:VEVENT
DTSTART;TZID=America/New_York:20260307T223000
DTEND;TZID=America/New_York:20260307T233000
DTSTAMP:20260421T054646
CREATED:20260219T023601Z
LAST-MODIFIED:20260219T023601Z
UID:10001531-1772922600-1772926200@laughingskulllounge.com
SUMMARY:Best of Atlanta Comedy Showcase - Saturday March 7 at 10:30PM
DESCRIPTION:
URL:https://laughingskulllounge.com/event/best-of-atlanta-comedy-showcase-saturday-march-7-2026-at-1030pm/
LOCATION:Laughing Skull Lounge\, 878 Peachtree Street\, Atlanta\, GA\, 30309\, United States
END:VEVENT
BEGIN:VEVENT
DTSTART;TZID=America/New_York:20260307T200000
DTEND;TZID=America/New_York:20260307T213000
DTSTAMP:20260421T054646
CREATED:20260219T023556Z
LAST-MODIFIED:20260219T023556Z
UID:10001530-1772913600-1772919000@laughingskulllounge.com
SUMMARY:Best of Atlanta Comedy Showcase - Saturday March 7 at 8:00PM
DESCRIPTION:
URL:https://laughingskulllounge.com/event/best-of-atlanta-comedy-showcase-saturday-march-7-2026-at-800pm/
LOCATION:Laughing Skull Lounge\, 878 Peachtree Street\, Atlanta\, GA\, 30309\, United States
END:VEVENT
BEGIN:VEVENT
DTSTART;TZID=America/New_York:20260307T173000
DTEND;TZID=America/New_York:20260307T183000
DTSTAMP:20260421T054646
CREATED:20260219T023551Z
LAST-MODIFIED:20260219T023551Z
UID:10001529-1772904600-1772908200@laughingskulllounge.com
SUMMARY:Best of Atlanta Comedy Showcase - Saturday March 7 at 5:30PM
DESCRIPTION:
URL:https://laughingskulllounge.com/event/best-of-atlanta-comedy-showcase-saturday-march-7-2026-at-530pm/
LOCATION:Laughing Skull Lounge\, 878 Peachtree Street\, Atlanta\, GA\, 30309\, United States
END:VEVENT
BEGIN:VEVENT
DTSTART;TZID=America/New_York:20260306T223000
DTEND;TZID=America/New_York:20260306T233000
DTSTAMP:20260421T054646
CREATED:20260213T234835Z
LAST-MODIFIED:20260213T234835Z
UID:10001503-1772836200-1772839800@laughingskulllounge.com
SUMMARY:Best of Atlanta Comedy Showcase - Friday March 6 at 10:30PM
DESCRIPTION:
URL:https://laughingskulllounge.com/event/best-of-atlanta-comedy-showcase-friday-march-6-2026-at-1030pm/
LOCATION:Laughing Skull Lounge\, 878 Peachtree Street\, Atlanta\, GA\, 30309\, United States
END:VEVENT
BEGIN:VEVENT
DTSTART;TZID=America/New_York:20260306T200000
DTEND;TZID=America/New_York:20260306T213000
DTSTAMP:20260421T054646
CREATED:20260213T234149Z
LAST-MODIFIED:20260213T234149Z
UID:10001502-1772827200-1772832600@laughingskulllounge.com
SUMMARY:Best of Atlanta Comedy Showcase - Friday March 6 at 8:00pm
DESCRIPTION:
URL:https://laughingskulllounge.com/event/best-of-atlanta-comedy-showcase-friday-march-6-2026-at-800pm/
LOCATION:Laughing Skull Lounge\, 878 Peachtree Street\, Atlanta\, GA\, 30309\, United States
END:VEVENT
BEGIN:VEVENT
DTSTART;TZID=America/New_York:20260305T200000
DTEND;TZID=America/New_York:20260305T213000
DTSTAMP:20260421T054646
CREATED:20260213T233659Z
LAST-MODIFIED:20260213T233659Z
UID:10001501-1772740800-1772746200@laughingskulllounge.com
SUMMARY:Best of Atlanta Comedy Showcase - Thursday March 5 at 8:00PM
DESCRIPTION:
URL:https://laughingskulllounge.com/event/best-of-atlanta-comedy-showcase-thursday-march-5-2026-at-800pm/
LOCATION:Laughing Skull Lounge\, 878 Peachtree Street\, Atlanta\, GA\, 30309\, United States
END:VEVENT
BEGIN:VEVENT
DTSTART;TZID=America/New_York:20260304T200000
DTEND;TZID=America/New_York:20260304T213000
DTSTAMP:20260421T054646
CREATED:20260213T233303Z
LAST-MODIFIED:20260213T233303Z
UID:10001500-1772654400-1772659800@laughingskulllounge.com
SUMMARY:Open Mic Night - Wednesday March 4 at 8:00PM
DESCRIPTION:
URL:https://laughingskulllounge.com/event/open-mic-night-wednesday-march-4-2026-at-800pm/
LOCATION:Laughing Skull Lounge\, 878 Peachtree Street\, Atlanta\, GA\, 30309\, United States
END:VEVENT
BEGIN:VEVENT
DTSTART;TZID=America/New_York:20260303T200000
DTEND;TZID=America/New_York:20260303T213000
DTSTAMP:20260421T054646
CREATED:20260213T232835Z
LAST-MODIFIED:20260213T232835Z
UID:10001499-1772568000-1772573400@laughingskulllounge.com
SUMMARY:Open Mic Night - Tuesday March 3 at 8:00PM
DESCRIPTION:
URL:https://laughingskulllounge.com/event/open-mic-night-tuesday-march-3-2026-at-800pm/
LOCATION:Laughing Skull Lounge\, 878 Peachtree Street\, Atlanta\, GA\, 30309\, United States
END:VEVENT
BEGIN:VEVENT
DTSTART;TZID=America/New_York:20260302T200000
DTEND;TZID=America/New_York:20260302T213000
DTSTAMP:20260421T054646
CREATED:20260213T232634Z
LAST-MODIFIED:20260213T232634Z
UID:10001498-1772481600-1772487000@laughingskulllounge.com
SUMMARY:Open Mic Night - Monday March 2 at 8:00PM
DESCRIPTION:
URL:https://laughingskulllounge.com/event/open-mic-night-monday-march-2-2026-at-800pm/
LOCATION:Laughing Skull Lounge\, 878 Peachtree Street\, Atlanta\, GA\, 30309\, United States
END:VEVENT
BEGIN:VEVENT
DTSTART;TZID=America/New_York:20260301T193000
DTEND;TZID=America/New_York:20260301T213000
DTSTAMP:20260421T054646
CREATED:20260213T235204Z
LAST-MODIFIED:20260213T235204Z
UID:10001504-1772393400-1772400600@laughingskulllounge.com
SUMMARY:Best Of Atlanta Comedy Showcase - Sunday March 1 at 7:30pm
DESCRIPTION:
URL:https://laughingskulllounge.com/event/best-of-atlanta-comedy-showcase-sunday-march-1-2026-at-730pm/
LOCATION:Laughing Skull Lounge\, 878 Peachtree Street\, Atlanta\, GA\, 30309\, United States
END:VEVENT
BEGIN:VEVENT
DTSTART;TZID=America/New_York:20260228T223000
DTEND;TZID=America/New_York:20260228T233000
DTSTAMP:20260421T054646
CREATED:20260114T210101Z
LAST-MODIFIED:20260114T210101Z
UID:10001464-1772317800-1772321400@laughingskulllounge.com
SUMMARY:Best of Atlanta Comedy Showcase - Saturday February 28 at 10:30PM
DESCRIPTION:
URL:https://laughingskulllounge.com/event/best-of-atlanta-comedy-showcase-saturday-february-28-2026-at-1030pm/
LOCATION:Laughing Skull Lounge\, 878 Peachtree Street\, Atlanta\, GA\, 30309\, United States
END:VEVENT
BEGIN:VEVENT
DTSTART;TZID=America/New_York:20260228T200000
DTEND;TZID=America/New_York:20260228T213000
DTSTAMP:20260421T054646
CREATED:20260114T195456Z
LAST-MODIFIED:20260114T204033Z
UID:10001461-1772308800-1772314200@laughingskulllounge.com
SUMMARY:Best of Atlanta Comedy Showcase - Saturday February 28 at 8:00PM
DESCRIPTION:
URL:https://laughingskulllounge.com/event/best-of-atlanta-comedy-showcase-saturday-february-28-2026-at-800pm/
LOCATION:Laughing Skull Lounge\, 878 Peachtree Street\, Atlanta\, GA\, 30309\, United States
END:VEVENT
BEGIN:VEVENT
DTSTART;TZID=America/New_York:20260228T173000
DTEND;TZID=America/New_York:20260228T183000
DTSTAMP:20260421T054646
CREATED:20260113T202237Z
LAST-MODIFIED:20260113T202237Z
UID:10001457-1772299800-1772303400@laughingskulllounge.com
SUMMARY:Best of Atlanta Comedy Showcase - Saturday February 28 at 5:30PM
DESCRIPTION:
URL:https://laughingskulllounge.com/event/best-of-atlanta-comedy-showcase-saturday-february-28-2026-at-530pm/
LOCATION:Laughing Skull Lounge\, 878 Peachtree Street\, Atlanta\, GA\, 30309\, United States
END:VEVENT
BEGIN:VEVENT
DTSTART;TZID=America/New_York:20260227T223000
DTEND;TZID=America/New_York:20260227T233000
DTSTAMP:20260421T054646
CREATED:20260122T211658Z
LAST-MODIFIED:20260122T211658Z
UID:10001486-1772231400-1772235000@laughingskulllounge.com
SUMMARY:Best of Atlanta Comedy Showcase - Friday February 27 at 10:30PM
DESCRIPTION:
URL:https://laughingskulllounge.com/event/best-of-atlanta-comedy-showcase-friday-february-27-2026-at-1030pm/
LOCATION:Laughing Skull Lounge\, 878 Peachtree Street\, Atlanta\, GA\, 30309\, United States
END:VEVENT
BEGIN:VEVENT
DTSTART;TZID=America/New_York:20260227T200000
DTEND;TZID=America/New_York:20260227T213000
DTSTAMP:20260421T054646
CREATED:20260122T203908Z
LAST-MODIFIED:20260122T203908Z
UID:10001482-1772222400-1772227800@laughingskulllounge.com
SUMMARY:Best of Atlanta Comedy Showcase - Friday February 27 at 8:00pm
DESCRIPTION:
URL:https://laughingskulllounge.com/event/best-of-atlanta-comedy-showcase-friday-february-27-2026-at-800pm/
LOCATION:Laughing Skull Lounge\, 878 Peachtree Street\, Atlanta\, GA\, 30309\, United States
END:VEVENT
BEGIN:VEVENT
DTSTART;TZID=America/New_York:20260226T200000
DTEND;TZID=America/New_York:20260226T213000
DTSTAMP:20260421T054646
CREATED:20260116T215022Z
LAST-MODIFIED:20260116T215022Z
UID:10001478-1772136000-1772141400@laughingskulllounge.com
SUMMARY:Best of Atlanta Comedy Showcase - Thursday February 26 at 8:00PM
DESCRIPTION:
URL:https://laughingskulllounge.com/event/best-of-atlanta-comedy-showcase-thursday-february-26-2026-at-800pm/
LOCATION:Laughing Skull Lounge\, 878 Peachtree Street\, Atlanta\, GA\, 30309\, United States
END:VEVENT
BEGIN:VEVENT
DTSTART;TZID=America/New_York:20260225T200000
DTEND;TZID=America/New_York:20260225T213000
DTSTAMP:20260421T054646
CREATED:20260116T194735Z
LAST-MODIFIED:20260116T194735Z
UID:10001474-1772049600-1772055000@laughingskulllounge.com
SUMMARY:Open Mic Night - Wednesday February 25 at 8:00PM
DESCRIPTION:
URL:https://laughingskulllounge.com/event/open-mic-night-wednesday-february-25-2026-at-800pm/
LOCATION:Laughing Skull Lounge\, 878 Peachtree Street\, Atlanta\, GA\, 30309\, United States
END:VEVENT
END:VCALENDAR