BEGIN:VCALENDAR
VERSION:2.0
PRODID:-//Laughing Skull Lounge - ECPv6.13.2.1//NONSGML v1.0//EN
CALSCALE:GREGORIAN
METHOD:PUBLISH
X-WR-CALNAME:Laughing Skull Lounge
X-ORIGINAL-URL:https://laughingskulllounge.com
X-WR-CALDESC:Events for Laughing Skull Lounge
REFRESH-INTERVAL;VALUE=DURATION:PT1H
X-Robots-Tag:noindex
X-PUBLISHED-TTL:PT1H
BEGIN:VTIMEZONE
TZID:America/New_York
BEGIN:DAYLIGHT
TZOFFSETFROM:-0500
TZOFFSETTO:-0400
TZNAME:EDT
DTSTART:20260308T070000
END:DAYLIGHT
BEGIN:STANDARD
TZOFFSETFROM:-0400
TZOFFSETTO:-0500
TZNAME:EST
DTSTART:20261101T060000
END:STANDARD
END:VTIMEZONE
BEGIN:VEVENT
DTSTART;TZID=America/New_York:20260524T193000
DTEND;TZID=America/New_York:20260524T213000
DTSTAMP:20260421T063525
CREATED:20260413T195145Z
LAST-MODIFIED:20260413T195145Z
UID:10001608-1779651000-1779658200@laughingskulllounge.com
SUMMARY:Best Of Atlanta Comedy Showcase - Sunday May 24 at 7:30pm
DESCRIPTION:
URL:https://laughingskulllounge.com/event/best-of-atlanta-comedy-showcase-sunday-may-24-2026-at-730pm/
LOCATION:Laughing Skull Lounge\, 878 Peachtree Street\, Atlanta\, GA\, 30309\, United States
END:VEVENT
BEGIN:VEVENT
DTSTART;TZID=America/New_York:20260525T200000
DTEND;TZID=America/New_York:20260525T213000
DTSTAMP:20260421T063525
CREATED:20260325T234917Z
LAST-MODIFIED:20260325T234917Z
UID:10001587-1779739200-1779744600@laughingskulllounge.com
SUMMARY:Open Mic Night - Monday May 25 at 8:00PM
DESCRIPTION:
URL:https://laughingskulllounge.com/event/open-mic-night-monday-may-25-2026-at-800pm/
LOCATION:Laughing Skull Lounge\, 878 Peachtree Street\, Atlanta\, GA\, 30309\, United States
END:VEVENT
BEGIN:VEVENT
DTSTART;TZID=America/New_York:20260526T200000
DTEND;TZID=America/New_York:20260526T213000
DTSTAMP:20260421T063525
CREATED:20260326T000019Z
LAST-MODIFIED:20260326T000019Z
UID:10001591-1779825600-1779831000@laughingskulllounge.com
SUMMARY:Open Mic Night - Tuesday May 26 at 8:00PM
DESCRIPTION:
URL:https://laughingskulllounge.com/event/open-mic-night-tuesday-may-26-2026-at-800pm/
LOCATION:Laughing Skull Lounge\, 878 Peachtree Street\, Atlanta\, GA\, 30309\, United States
END:VEVENT
BEGIN:VEVENT
DTSTART;TZID=America/New_York:20260527T200000
DTEND;TZID=America/New_York:20260527T213000
DTSTAMP:20260421T063525
CREATED:20260326T002656Z
LAST-MODIFIED:20260326T002656Z
UID:10001595-1779912000-1779917400@laughingskulllounge.com
SUMMARY:Open Mic Night - Wednesday May 27 at 8:00PM
DESCRIPTION:
URL:https://laughingskulllounge.com/event/open-mic-night-wednesday-may-27-2026-at-800pm/
LOCATION:Laughing Skull Lounge\, 878 Peachtree Street\, Atlanta\, GA\, 30309\, United States
END:VEVENT
BEGIN:VEVENT
DTSTART;TZID=America/New_York:20260528T200000
DTEND;TZID=America/New_York:20260528T213000
DTSTAMP:20260421T063525
CREATED:20260413T181034Z
LAST-MODIFIED:20260413T181034Z
UID:10001599-1779998400-1780003800@laughingskulllounge.com
SUMMARY:Best of Atlanta Comedy Showcase - Thursday May 28 at 8:00PM
DESCRIPTION:
URL:https://laughingskulllounge.com/event/best-of-atlanta-comedy-showcase-thursday-may-28-2026-at-800pm/
LOCATION:Laughing Skull Lounge\, 878 Peachtree Street\, Atlanta\, GA\, 30309\, United States
END:VEVENT
BEGIN:VEVENT
DTSTART;TZID=America/New_York:20260529T200000
DTEND;TZID=America/New_York:20260529T213000
DTSTAMP:20260421T063525
CREATED:20260414T162942Z
LAST-MODIFIED:20260414T162942Z
UID:10001614-1780084800-1780090200@laughingskulllounge.com
SUMMARY:Best of Atlanta Comedy Showcase - Friday May 29 at 8:00pm
DESCRIPTION:
URL:https://laughingskulllounge.com/event/best-of-atlanta-comedy-showcase-friday-may-29-2026-at-800pm/
LOCATION:Laughing Skull Lounge\, 878 Peachtree Street\, Atlanta\, GA\, 30309\, United States
END:VEVENT
BEGIN:VEVENT
DTSTART;TZID=America/New_York:20260529T223000
DTEND;TZID=America/New_York:20260529T233000
DTSTAMP:20260421T063525
CREATED:20260414T164620Z
LAST-MODIFIED:20260414T164620Z
UID:10001617-1780093800-1780097400@laughingskulllounge.com
SUMMARY:Best of Atlanta Comedy Showcase - Friday May 29 at 10:30PM
DESCRIPTION:
URL:https://laughingskulllounge.com/event/best-of-atlanta-comedy-showcase-friday-may-29-2026-at-1030pm/
LOCATION:Laughing Skull Lounge\, 878 Peachtree Street\, Atlanta\, GA\, 30309\, United States
END:VEVENT
BEGIN:VEVENT
DTSTART;TZID=America/New_York:20260530T173000
DTEND;TZID=America/New_York:20260530T183000
DTSTAMP:20260421T063525
CREATED:20260414T174121Z
LAST-MODIFIED:20260414T174121Z
UID:10001622-1780162200-1780165800@laughingskulllounge.com
SUMMARY:Best of Atlanta Comedy Showcase - Saturday May 30 at 5:30PM
DESCRIPTION:
URL:https://laughingskulllounge.com/event/best-of-atlanta-comedy-showcase-saturday-may-30-2026-at-530pm/
LOCATION:Laughing Skull Lounge\, 878 Peachtree Street\, Atlanta\, GA\, 30309\, United States
END:VEVENT
BEGIN:VEVENT
DTSTART;TZID=America/New_York:20260530T200000
DTEND;TZID=America/New_York:20260530T213000
DTSTAMP:20260421T063525
CREATED:20260414T191132Z
LAST-MODIFIED:20260414T191132Z
UID:10001626-1780171200-1780176600@laughingskulllounge.com
SUMMARY:Best of Atlanta Comedy Showcase - Saturday May 30 at 8:00PM
DESCRIPTION:
URL:https://laughingskulllounge.com/event/best-of-atlanta-comedy-showcase-saturday-may-30-2026-at-800pm/
LOCATION:Laughing Skull Lounge\, 878 Peachtree Street\, Atlanta\, GA\, 30309\, United States
END:VEVENT
BEGIN:VEVENT
DTSTART;TZID=America/New_York:20260530T223000
DTEND;TZID=America/New_York:20260530T233000
DTSTAMP:20260421T063525
CREATED:20260414T194711Z
LAST-MODIFIED:20260414T194711Z
UID:10001630-1780180200-1780183800@laughingskulllounge.com
SUMMARY:Best of Atlanta Comedy Showcase - Saturday May 30 at 10:30PM
DESCRIPTION:
URL:https://laughingskulllounge.com/event/best-of-atlanta-comedy-showcase-saturday-may-30-2026-at-1030pm/
LOCATION:Laughing Skull Lounge\, 878 Peachtree Street\, Atlanta\, GA\, 30309\, United States
END:VEVENT
BEGIN:VEVENT
DTSTART;TZID=America/New_York:20260531T170000
DTEND;TZID=America/New_York:20260531T183000
DTSTAMP:20260421T063525
CREATED:20260213T225627Z
LAST-MODIFIED:20260213T225627Z
UID:10001493-1780246800-1780252200@laughingskulllounge.com
SUMMARY:Stand-Up Comedy Class Graduation Show - May 31\, 2026 at 5:00pm
DESCRIPTION:
URL:https://laughingskulllounge.com/event/stand-up-comedy-class-graduation-show-may-31-2026-at-500pm/
LOCATION:Laughing Skull Lounge\, 878 Peachtree Street\, Atlanta\, GA\, 30309\, United States
END:VEVENT
BEGIN:VEVENT
DTSTART;TZID=America/New_York:20260531T193000
DTEND;TZID=America/New_York:20260531T213000
DTSTAMP:20260421T063525
CREATED:20260413T213047Z
LAST-MODIFIED:20260413T213047Z
UID:10001609-1780255800-1780263000@laughingskulllounge.com
SUMMARY:Best Of Atlanta Comedy Showcase - Sunday May 31 at 7:30pm
DESCRIPTION:
URL:https://laughingskulllounge.com/event/best-of-atlanta-comedy-showcase-sunday-may-31-2026-at-730pm/
LOCATION:Laughing Skull Lounge\, 878 Peachtree Street\, Atlanta\, GA\, 30309\, United States
END:VEVENT
BEGIN:VEVENT
DTSTART;TZID=America/New_York:20260601T200000
DTEND;TZID=America/New_York:20260601T213000
DTSTAMP:20260421T063525
CREATED:20260417T003317Z
LAST-MODIFIED:20260417T003317Z
UID:10001631-1780344000-1780349400@laughingskulllounge.com
SUMMARY:Open Mic Night - Monday June 1 at 8:00PM
DESCRIPTION:
URL:https://laughingskulllounge.com/event/open-mic-night-monday-june-1-2026-at-800pm/
LOCATION:Laughing Skull Lounge\, 878 Peachtree Street\, Atlanta\, GA\, 30309\, United States
END:VEVENT
BEGIN:VEVENT
DTSTART;TZID=America/New_York:20260602T200000
DTEND;TZID=America/New_York:20260602T213000
DTSTAMP:20260421T063525
CREATED:20260418T030010Z
LAST-MODIFIED:20260418T030010Z
UID:10001636-1780430400-1780435800@laughingskulllounge.com
SUMMARY:Open Mic Night - Tuesday June 2 at 8:00PM
DESCRIPTION:
URL:https://laughingskulllounge.com/event/open-mic-night-tuesday-june-2-2026-at-800pm/
LOCATION:Laughing Skull Lounge\, 878 Peachtree Street\, Atlanta\, GA\, 30309\, United States
END:VEVENT
BEGIN:VEVENT
DTSTART;TZID=America/New_York:20260603T200000
DTEND;TZID=America/New_York:20260603T213000
DTSTAMP:20260421T063525
CREATED:20260418T030051Z
LAST-MODIFIED:20260418T030051Z
UID:10001637-1780516800-1780522200@laughingskulllounge.com
SUMMARY:Open Mic Night - Wednesday June 3 at 8:00PM
DESCRIPTION:
URL:https://laughingskulllounge.com/event/open-mic-night-wednesday-june-3-2026-at-800pm/
LOCATION:Laughing Skull Lounge\, 878 Peachtree Street\, Atlanta\, GA\, 30309\, United States
END:VEVENT
BEGIN:VEVENT
DTSTART;TZID=America/New_York:20260606T100000
DTEND;TZID=America/New_York:20260606T170000
DTSTAMP:20260421T063525
CREATED:20260213T224008Z
LAST-MODIFIED:20260213T224008Z
UID:10001489-1780740000-1780765200@laughingskulllounge.com
SUMMARY:Laughing Skull Lounge Stand-Up Comedy Class - June 6\, 2026
DESCRIPTION:The Laughing Skull Lounge Stand Up comedy class is a six week comedy course that ends with a graduation show! We apply lessons from the best comedians in the country and help you create a solid 5-8 minute set to use as you wish. We sell out almost every class\, so if you are interested\, we suggest you sign up now! \nClasses are on Saturdays from 10:00 am to 1:00 pm at the world famous Laughing Skull Lounge.
URL:https://laughingskulllounge.com/event/laughing-skull-lounge-stand-up-comedy-class-june-6-2026/
LOCATION:Laughing Skull Lounge\, 878 Peachtree Street\, Atlanta\, GA\, 30309\, United States
END:VEVENT
BEGIN:VEVENT
DTSTART;TZID=America/New_York:20260608T200000
DTEND;TZID=America/New_York:20260608T213000
DTSTAMP:20260421T063525
CREATED:20260418T003056Z
LAST-MODIFIED:20260418T003056Z
UID:10001632-1780948800-1780954200@laughingskulllounge.com
SUMMARY:Open Mic Night - Monday June 8 at 8:00PM
DESCRIPTION:
URL:https://laughingskulllounge.com/event/open-mic-night-monday-june-8-2026-at-800pm/
LOCATION:Laughing Skull Lounge\, 878 Peachtree Street\, Atlanta\, GA\, 30309\, United States
END:VEVENT
BEGIN:VEVENT
DTSTART;TZID=America/New_York:20260609T200000
DTEND;TZID=America/New_York:20260609T213000
DTSTAMP:20260421T063525
CREATED:20260418T030225Z
LAST-MODIFIED:20260418T030225Z
UID:10001638-1781035200-1781040600@laughingskulllounge.com
SUMMARY:Open Mic Night - Tuesday June 9 at 8:00PM
DESCRIPTION:
URL:https://laughingskulllounge.com/event/open-mic-night-tuesday-june-9-2026-at-800pm/
LOCATION:Laughing Skull Lounge\, 878 Peachtree Street\, Atlanta\, GA\, 30309\, United States
END:VEVENT
BEGIN:VEVENT
DTSTART;TZID=America/New_York:20260615T200000
DTEND;TZID=America/New_York:20260615T213000
DTSTAMP:20260421T063525
CREATED:20260418T003248Z
LAST-MODIFIED:20260418T003248Z
UID:10001633-1781553600-1781559000@laughingskulllounge.com
SUMMARY:Open Mic Night - Monday June 15 at 8:00PM
DESCRIPTION:
URL:https://laughingskulllounge.com/event/open-mic-night-monday-june-15-2026-at-800pm/
LOCATION:Laughing Skull Lounge\, 878 Peachtree Street\, Atlanta\, GA\, 30309\, United States
END:VEVENT
BEGIN:VEVENT
DTSTART;TZID=America/New_York:20260616T200000
DTEND;TZID=America/New_York:20260616T213000
DTSTAMP:20260421T063525
CREATED:20260418T030457Z
LAST-MODIFIED:20260418T030457Z
UID:10001639-1781640000-1781645400@laughingskulllounge.com
SUMMARY:Open Mic Night - Tuesday June 16 at 8:00PM
DESCRIPTION:
URL:https://laughingskulllounge.com/event/open-mic-night-tuesday-june-16-2026-at-800pm/
LOCATION:Laughing Skull Lounge\, 878 Peachtree Street\, Atlanta\, GA\, 30309\, United States
END:VEVENT
BEGIN:VEVENT
DTSTART;TZID=America/New_York:20260622T200000
DTEND;TZID=America/New_York:20260622T213000
DTSTAMP:20260421T063525
CREATED:20260418T003532Z
LAST-MODIFIED:20260418T003532Z
UID:10001634-1782158400-1782163800@laughingskulllounge.com
SUMMARY:Open Mic Night - Monday June 22 at 8:00PM
DESCRIPTION:
URL:https://laughingskulllounge.com/event/open-mic-night-monday-june-22-2026-at-800pm/
LOCATION:Laughing Skull Lounge\, 878 Peachtree Street\, Atlanta\, GA\, 30309\, United States
END:VEVENT
BEGIN:VEVENT
DTSTART;TZID=America/New_York:20260629T200000
DTEND;TZID=America/New_York:20260629T213000
DTSTAMP:20260421T063525
CREATED:20260418T025205Z
LAST-MODIFIED:20260418T025205Z
UID:10001635-1782763200-1782768600@laughingskulllounge.com
SUMMARY:Open Mic Night - Monday June 29 at 8:00PM
DESCRIPTION:
URL:https://laughingskulllounge.com/event/open-mic-night-monday-june-29-2026-at-800pm/
LOCATION:Laughing Skull Lounge\, 878 Peachtree Street\, Atlanta\, GA\, 30309\, United States
END:VEVENT
BEGIN:VEVENT
DTSTART;TZID=America/New_York:20260712T170000
DTEND;TZID=America/New_York:20260712T183000
DTSTAMP:20260421T063525
CREATED:20260213T225915Z
LAST-MODIFIED:20260213T225915Z
UID:10001494-1783875600-1783881000@laughingskulllounge.com
SUMMARY:Stand-Up Comedy Class Graduation Show - July 12\, 2026 at 5:00pm
DESCRIPTION:
URL:https://laughingskulllounge.com/event/stand-up-comedy-class-graduation-show-july-12-2026-at-500pm/
LOCATION:Laughing Skull Lounge\, 878 Peachtree Street\, Atlanta\, GA\, 30309\, United States
END:VEVENT
BEGIN:VEVENT
DTSTART;TZID=America/New_York:20260801T100000
DTEND;TZID=America/New_York:20260801T170000
DTSTAMP:20260421T063525
CREATED:20260213T224215Z
LAST-MODIFIED:20260213T224215Z
UID:10001490-1785578400-1785603600@laughingskulllounge.com
SUMMARY:Laughing Skull Lounge Stand-Up Comedy Class - August 1\, 2026
DESCRIPTION:The Laughing Skull Lounge Stand Up comedy class is a six week comedy course that ends with a graduation show! We apply lessons from the best comedians in the country and help you create a solid 5-8 minute set to use as you wish. We sell out almost every class\, so if you are interested\, we suggest you sign up now! \nClasses are on Saturdays from 10:00 am to 1:00 pm at the world famous Laughing Skull Lounge.
URL:https://laughingskulllounge.com/event/laughing-skull-lounge-stand-up-comedy-class-august-1-2026/
LOCATION:Laughing Skull Lounge\, 878 Peachtree Street\, Atlanta\, GA\, 30309\, United States
END:VEVENT
BEGIN:VEVENT
DTSTART;TZID=America/New_York:20260906T170000
DTEND;TZID=America/New_York:20260906T183000
DTSTAMP:20260421T063525
CREATED:20260213T230059Z
LAST-MODIFIED:20260213T230059Z
UID:10001495-1788714000-1788719400@laughingskulllounge.com
SUMMARY:Stand-Up Comedy Class Graduation Show - September 6\, 2026 at 5:00pm
DESCRIPTION:
URL:https://laughingskulllounge.com/event/stand-up-comedy-class-graduation-show-september-6-2026-at-500pm/
LOCATION:Laughing Skull Lounge\, 878 Peachtree Street\, Atlanta\, GA\, 30309\, United States
END:VEVENT
BEGIN:VEVENT
DTSTART;TZID=America/New_York:20260912T100000
DTEND;TZID=America/New_York:20260912T170000
DTSTAMP:20260421T063525
CREATED:20260213T224626Z
LAST-MODIFIED:20260213T224626Z
UID:10001491-1789207200-1789232400@laughingskulllounge.com
SUMMARY:Laughing Skull Lounge Stand-Up Comedy Class - September 12\, 2026
DESCRIPTION:The Laughing Skull Lounge Stand Up comedy class is a six week comedy course that ends with a graduation show! We apply lessons from the best comedians in the country and help you create a solid 5-8 minute set to use as you wish. We sell out almost every class\, so if you are interested\, we suggest you sign up now! \nClasses are on Saturdays from 10:00 am to 1:00 pm at the world famous Laughing Skull Lounge.
URL:https://laughingskulllounge.com/event/laughing-skull-lounge-stand-up-comedy-class-september-12-2026/
LOCATION:Laughing Skull Lounge\, 878 Peachtree Street\, Atlanta\, GA\, 30309\, United States
END:VEVENT
BEGIN:VEVENT
DTSTART;TZID=America/New_York:20261018T170000
DTEND;TZID=America/New_York:20261018T183000
DTSTAMP:20260421T063525
CREATED:20260213T230343Z
LAST-MODIFIED:20260213T230343Z
UID:10001496-1792342800-1792348200@laughingskulllounge.com
SUMMARY:Stand-Up Comedy Class Graduation Show - October 18\, 2026 at 5:00pm
DESCRIPTION:
URL:https://laughingskulllounge.com/event/stand-up-comedy-class-graduation-show-october-18-2026-at-500pm/
LOCATION:Laughing Skull Lounge\, 878 Peachtree Street\, Atlanta\, GA\, 30309\, United States
END:VEVENT
BEGIN:VEVENT
DTSTART;TZID=America/New_York:20261107T100000
DTEND;TZID=America/New_York:20261107T170000
DTSTAMP:20260421T063525
CREATED:20260213T225003Z
LAST-MODIFIED:20260213T225003Z
UID:10001492-1794045600-1794070800@laughingskulllounge.com
SUMMARY:Laughing Skull Lounge Stand-Up Comedy Class - November 7\, 2026
DESCRIPTION:The Laughing Skull Lounge Stand Up comedy class is a six week comedy course that ends with a graduation show! We apply lessons from the best comedians in the country and help you create a solid 5-8 minute set to use as you wish. We sell out almost every class\, so if you are interested\, we suggest you sign up now! \nClasses are on Saturdays from 10:00 am to 1:00 pm at the world famous Laughing Skull Lounge.
URL:https://laughingskulllounge.com/event/laughing-skull-lounge-stand-up-comedy-class-november-7-2026/
LOCATION:Laughing Skull Lounge\, 878 Peachtree Street\, Atlanta\, GA\, 30309\, United States
END:VEVENT
BEGIN:VEVENT
DTSTART;TZID=America/New_York:20261220T170000
DTEND;TZID=America/New_York:20261220T183000
DTSTAMP:20260421T063525
CREATED:20260213T230653Z
LAST-MODIFIED:20260213T230653Z
UID:10001497-1797786000-1797791400@laughingskulllounge.com
SUMMARY:Stand-Up Comedy Class Graduation Show - December 20\, 2026 at 5:00pm
DESCRIPTION:
URL:https://laughingskulllounge.com/event/stand-up-comedy-class-graduation-show-december-20-2026-at-500pm/
LOCATION:Laughing Skull Lounge\, 878 Peachtree Street\, Atlanta\, GA\, 30309\, United States
END:VEVENT
END:VCALENDAR