BEGIN:VCALENDAR
VERSION:2.0
PRODID:-//Laughing Skull Lounge - ECPv6.13.2.1//NONSGML v1.0//EN
CALSCALE:GREGORIAN
METHOD:PUBLISH
X-ORIGINAL-URL:https://laughingskulllounge.com
X-WR-CALDESC:Events for Laughing Skull Lounge
REFRESH-INTERVAL;VALUE=DURATION:PT1H
X-Robots-Tag:noindex
X-PUBLISHED-TTL:PT1H
BEGIN:VTIMEZONE
TZID:America/New_York
BEGIN:DAYLIGHT
TZOFFSETFROM:-0500
TZOFFSETTO:-0400
TZNAME:EDT
DTSTART:20260308T070000
END:DAYLIGHT
BEGIN:STANDARD
TZOFFSETFROM:-0400
TZOFFSETTO:-0500
TZNAME:EST
DTSTART:20261101T060000
END:STANDARD
END:VTIMEZONE
BEGIN:VEVENT
DTSTART;TZID=America/New_York:20260423T200000
DTEND;TZID=America/New_York:20260423T213000
DTSTAMP:20260423T051125
CREATED:20260321T141843Z
LAST-MODIFIED:20260321T141843Z
UID:10001576-1776974400-1776979800@laughingskulllounge.com
SUMMARY:Best of Atlanta Comedy Showcase - Thursday April 23 at 8:00PM
DESCRIPTION:
URL:https://laughingskulllounge.com/event/best-of-atlanta-comedy-showcase-thursday-april-23-2026-at-800pm/
LOCATION:Laughing Skull Lounge\, 878 Peachtree Street\, Atlanta\, GA\, 30309\, United States
END:VEVENT
BEGIN:VEVENT
DTSTART;TZID=America/New_York:20260424T200000
DTEND;TZID=America/New_York:20260424T213000
DTSTAMP:20260423T051125
CREATED:20260323T170223Z
LAST-MODIFIED:20260323T170223Z
UID:10001579-1777060800-1777066200@laughingskulllounge.com
SUMMARY:Best of Atlanta Comedy Showcase - Friday April 24 at 8:00pm
DESCRIPTION:
URL:https://laughingskulllounge.com/event/best-of-atlanta-comedy-showcase-friday-april-24-2026-at-800pm/
LOCATION:Laughing Skull Lounge\, 878 Peachtree Street\, Atlanta\, GA\, 30309\, United States
END:VEVENT
BEGIN:VEVENT
DTSTART;TZID=America/New_York:20260424T223000
DTEND;TZID=America/New_York:20260424T233000
DTSTAMP:20260423T051125
CREATED:20260323T170229Z
LAST-MODIFIED:20260323T170229Z
UID:10001580-1777069800-1777073400@laughingskulllounge.com
SUMMARY:Best of Atlanta Comedy Showcase - Friday April 24 at 10:30PM
DESCRIPTION:
URL:https://laughingskulllounge.com/event/best-of-atlanta-comedy-showcase-friday-april-24-2026-at-1030pm/
LOCATION:Laughing Skull Lounge\, 878 Peachtree Street\, Atlanta\, GA\, 30309\, United States
END:VEVENT
BEGIN:VEVENT
DTSTART;TZID=America/New_York:20260425T100000
DTEND;TZID=America/New_York:20260425T170000
DTSTAMP:20260423T051125
CREATED:20260213T223840Z
LAST-MODIFIED:20260213T223840Z
UID:10001488-1777111200-1777136400@laughingskulllounge.com
SUMMARY:Laughing Skull Lounge Stand-Up Comedy Class - April 25\, 2026
DESCRIPTION:The Laughing Skull Lounge Stand Up comedy class is a six week comedy course that ends with a graduation show! We apply lessons from the best comedians in the country and help you create a solid 5-8 minute set to use as you wish. We sell out almost every class\, so if you are interested\, we suggest you sign up now! \nClasses are on Saturdays from 10:00 am to 1:00 pm at the world famous Laughing Skull Lounge.
URL:https://laughingskulllounge.com/event/laughing-skull-lounge-stand-up-comedy-class-april-25-2026/
LOCATION:Laughing Skull Lounge\, 878 Peachtree Street\, Atlanta\, GA\, 30309\, United States
END:VEVENT
BEGIN:VEVENT
DTSTART;TZID=America/New_York:20260425T173000
DTEND;TZID=America/New_York:20260425T183000
DTSTAMP:20260423T051125
CREATED:20260323T172059Z
LAST-MODIFIED:20260323T172059Z
UID:10001581-1777138200-1777141800@laughingskulllounge.com
SUMMARY:Best of Atlanta Comedy Showcase - Saturday April 25 at 5:30PM
DESCRIPTION:
URL:https://laughingskulllounge.com/event/best-of-atlanta-comedy-showcase-saturday-april-25-2026-at-530pm/
LOCATION:Laughing Skull Lounge\, 878 Peachtree Street\, Atlanta\, GA\, 30309\, United States
END:VEVENT
BEGIN:VEVENT
DTSTART;TZID=America/New_York:20260425T200000
DTEND;TZID=America/New_York:20260425T213000
DTSTAMP:20260423T051125
CREATED:20260323T172108Z
LAST-MODIFIED:20260323T172108Z
UID:10001582-1777147200-1777152600@laughingskulllounge.com
SUMMARY:Best of Atlanta Comedy Showcase - Saturday April 25 at 8:00PM
DESCRIPTION:
URL:https://laughingskulllounge.com/event/best-of-atlanta-comedy-showcase-saturday-april-25-2026-at-800pm/
LOCATION:Laughing Skull Lounge\, 878 Peachtree Street\, Atlanta\, GA\, 30309\, United States
END:VEVENT
BEGIN:VEVENT
DTSTART;TZID=America/New_York:20260425T223000
DTEND;TZID=America/New_York:20260425T233000
DTSTAMP:20260423T051125
CREATED:20260323T172112Z
LAST-MODIFIED:20260323T172112Z
UID:10001583-1777156200-1777159800@laughingskulllounge.com
SUMMARY:Best of Atlanta Comedy Showcase - Saturday April 25 at 10:30PM
DESCRIPTION:
URL:https://laughingskulllounge.com/event/best-of-atlanta-comedy-showcase-saturday-april-25-2026-at-1030pm/
LOCATION:Laughing Skull Lounge\, 878 Peachtree Street\, Atlanta\, GA\, 30309\, United States
END:VEVENT
BEGIN:VEVENT
DTSTART;TZID=America/New_York:20260426T170000
DTEND;TZID=America/New_York:20260426T183000
DTSTAMP:20260423T051125
CREATED:20251125T210533Z
LAST-MODIFIED:20260406T171807Z
UID:10001394-1777222800-1777228200@laughingskulllounge.com
SUMMARY:Stand-Up Comedy Class Graduation Show - April 26\, 2026 at 5:00pm
DESCRIPTION:
URL:https://laughingskulllounge.com/event/stand-up-comedy-class-graduation-show-april-26-2026-at-500pm/
LOCATION:Laughing Skull Lounge\, 878 Peachtree Street\, Atlanta\, GA\, 30309\, United States
END:VEVENT
BEGIN:VEVENT
DTSTART;TZID=America/New_York:20260426T193000
DTEND;TZID=America/New_York:20260426T213000
DTSTAMP:20260423T051125
CREATED:20260321T141857Z
LAST-MODIFIED:20260321T141857Z
UID:10001577-1777231800-1777239000@laughingskulllounge.com
SUMMARY:Best Of Atlanta Comedy Showcase - Sunday April 26 at 7:30pm
DESCRIPTION:
URL:https://laughingskulllounge.com/event/best-of-atlanta-comedy-showcase-sunday-april-26-2026-at-730pm/
LOCATION:Laughing Skull Lounge\, 878 Peachtree Street\, Atlanta\, GA\, 30309\, United States
END:VEVENT
BEGIN:VEVENT
DTSTART;TZID=America/New_York:20260427T200000
DTEND;TZID=America/New_York:20260427T213000
DTSTAMP:20260423T051125
CREATED:20260319T005243Z
LAST-MODIFIED:20260319T005243Z
UID:10001553-1777320000-1777325400@laughingskulllounge.com
SUMMARY:Open Mic Night - Monday April 27 at 8:00PM
DESCRIPTION:
URL:https://laughingskulllounge.com/event/open-mic-night-monday-april-27-2026-at-800pm/
LOCATION:Laughing Skull Lounge\, 878 Peachtree Street\, Atlanta\, GA\, 30309\, United States
END:VEVENT
BEGIN:VEVENT
DTSTART;TZID=America/New_York:20260428T200000
DTEND;TZID=America/New_York:20260428T213000
DTSTAMP:20260423T051125
CREATED:20260320T004623Z
LAST-MODIFIED:20260320T004623Z
UID:10001557-1777406400-1777411800@laughingskulllounge.com
SUMMARY:Open Mic Night - Tuesday April 28 at 8:00PM
DESCRIPTION:
URL:https://laughingskulllounge.com/event/open-mic-night-tuesday-april-28-2026-at-800pm/
LOCATION:Laughing Skull Lounge\, 878 Peachtree Street\, Atlanta\, GA\, 30309\, United States
END:VEVENT
BEGIN:VEVENT
DTSTART;TZID=America/New_York:20260429T200000
DTEND;TZID=America/New_York:20260429T213000
DTSTAMP:20260423T051125
CREATED:20260320T203733Z
LAST-MODIFIED:20260320T203733Z
UID:10001562-1777492800-1777498200@laughingskulllounge.com
SUMMARY:Open Mic Night - Wednesday April 29 at 8:00PM
DESCRIPTION:
URL:https://laughingskulllounge.com/event/open-mic-night-wednesday-april-29-2026-at-800pm/
LOCATION:Laughing Skull Lounge\, 878 Peachtree Street\, Atlanta\, GA\, 30309\, United States
END:VEVENT
BEGIN:VEVENT
DTSTART;TZID=America/New_York:20260430T200000
DTEND;TZID=America/New_York:20260430T213000
DTSTAMP:20260423T051125
CREATED:20260323T165726Z
LAST-MODIFIED:20260323T165726Z
UID:10001578-1777579200-1777584600@laughingskulllounge.com
SUMMARY:Best of Atlanta Comedy Showcase - Thursday April 30 at 8:00PM
DESCRIPTION:
URL:https://laughingskulllounge.com/event/best-of-atlanta-comedy-showcase-thursday-april-30-2026-at-800pm/
LOCATION:Laughing Skull Lounge\, 878 Peachtree Street\, Atlanta\, GA\, 30309\, United States
END:VEVENT
BEGIN:VEVENT
DTSTART;TZID=America/New_York:20260501T200000
DTEND;TZID=America/New_York:20260501T213000
DTSTAMP:20260423T051125
CREATED:20260413T181909Z
LAST-MODIFIED:20260413T181909Z
UID:10001601-1777665600-1777671000@laughingskulllounge.com
SUMMARY:Best of Atlanta Comedy Showcase - Friday May 1 at 8:00pm
DESCRIPTION:
URL:https://laughingskulllounge.com/event/best-of-atlanta-comedy-showcase-friday-may-1-2026-at-800pm/
LOCATION:Laughing Skull Lounge\, 878 Peachtree Street\, Atlanta\, GA\, 30309\, United States
END:VEVENT
BEGIN:VEVENT
DTSTART;TZID=America/New_York:20260501T223000
DTEND;TZID=America/New_York:20260501T233000
DTSTAMP:20260423T051125
CREATED:20260413T182041Z
LAST-MODIFIED:20260413T182041Z
UID:10001602-1777674600-1777678200@laughingskulllounge.com
SUMMARY:Best of Atlanta Comedy Showcase - Friday May 1 at 10:30PM
DESCRIPTION:
URL:https://laughingskulllounge.com/event/best-of-atlanta-comedy-showcase-friday-may-1-2026-at-1030pm/
LOCATION:Laughing Skull Lounge\, 878 Peachtree Street\, Atlanta\, GA\, 30309\, United States
END:VEVENT
BEGIN:VEVENT
DTSTART;TZID=America/New_York:20260502T173000
DTEND;TZID=America/New_York:20260502T183000
DTSTAMP:20260423T051125
CREATED:20260413T182611Z
LAST-MODIFIED:20260413T182611Z
UID:10001603-1777743000-1777746600@laughingskulllounge.com
SUMMARY:Best of Atlanta Comedy Showcase - Saturday May 2 at 5:30PM
DESCRIPTION:
URL:https://laughingskulllounge.com/event/best-of-atlanta-comedy-showcase-saturday-may-2-2026-at-530pm/
LOCATION:Laughing Skull Lounge\, 878 Peachtree Street\, Atlanta\, GA\, 30309\, United States
END:VEVENT
BEGIN:VEVENT
DTSTART;TZID=America/New_York:20260502T200000
DTEND;TZID=America/New_York:20260502T213000
DTSTAMP:20260423T051125
CREATED:20260413T190630Z
LAST-MODIFIED:20260413T190630Z
UID:10001604-1777752000-1777757400@laughingskulllounge.com
SUMMARY:Best of Atlanta Comedy Showcase - Saturday May 2 at 8:00PM
DESCRIPTION:
URL:https://laughingskulllounge.com/event/best-of-atlanta-comedy-showcase-saturday-may-2-2026-at-800pm/
LOCATION:Laughing Skull Lounge\, 878 Peachtree Street\, Atlanta\, GA\, 30309\, United States
END:VEVENT
BEGIN:VEVENT
DTSTART;TZID=America/New_York:20260502T223000
DTEND;TZID=America/New_York:20260502T233000
DTSTAMP:20260423T051125
CREATED:20260413T185851Z
LAST-MODIFIED:20260413T185851Z
UID:10001605-1777761000-1777764600@laughingskulllounge.com
SUMMARY:Best of Atlanta Comedy Showcase - Saturday May 2 at 10:30PM
DESCRIPTION:
URL:https://laughingskulllounge.com/event/best-of-atlanta-comedy-showcase-saturday-may-2-2026-at-1030pm/
LOCATION:Laughing Skull Lounge\, 878 Peachtree Street\, Atlanta\, GA\, 30309\, United States
END:VEVENT
BEGIN:VEVENT
DTSTART;TZID=America/New_York:20260503T193000
DTEND;TZID=America/New_York:20260503T213000
DTSTAMP:20260423T051125
CREATED:20260413T181654Z
LAST-MODIFIED:20260413T181654Z
UID:10001600-1777836600-1777843800@laughingskulllounge.com
SUMMARY:Best Of Atlanta Comedy Showcase - Sunday May 3 at 7:30pm
DESCRIPTION:
URL:https://laughingskulllounge.com/event/best-of-atlanta-comedy-showcase-sunday-may-3-2026-at-730pm/
LOCATION:Laughing Skull Lounge\, 878 Peachtree Street\, Atlanta\, GA\, 30309\, United States
END:VEVENT
BEGIN:VEVENT
DTSTART;TZID=America/New_York:20260504T200000
DTEND;TZID=America/New_York:20260504T213000
DTSTAMP:20260423T051125
CREATED:20260323T174047Z
LAST-MODIFIED:20260323T174047Z
UID:10001584-1777924800-1777930200@laughingskulllounge.com
SUMMARY:Open Mic Night - Monday May 4 at 8:00PM
DESCRIPTION:
URL:https://laughingskulllounge.com/event/open-mic-night-monday-may-4-2026-at-800pm/
LOCATION:Laughing Skull Lounge\, 878 Peachtree Street\, Atlanta\, GA\, 30309\, United States
END:VEVENT
BEGIN:VEVENT
DTSTART;TZID=America/New_York:20260505T200000
DTEND;TZID=America/New_York:20260505T213000
DTSTAMP:20260423T051125
CREATED:20260325T235219Z
LAST-MODIFIED:20260325T235219Z
UID:10001588-1778011200-1778016600@laughingskulllounge.com
SUMMARY:Open Mic Night - Tuesday May 5 at 8:00PM
DESCRIPTION:
URL:https://laughingskulllounge.com/event/open-mic-night-tuesday-may-5-2026-at-800pm/
LOCATION:Laughing Skull Lounge\, 878 Peachtree Street\, Atlanta\, GA\, 30309\, United States
END:VEVENT
BEGIN:VEVENT
DTSTART;TZID=America/New_York:20260506T200000
DTEND;TZID=America/New_York:20260506T213000
DTSTAMP:20260423T051125
CREATED:20260326T001708Z
LAST-MODIFIED:20260326T001708Z
UID:10001592-1778097600-1778103000@laughingskulllounge.com
SUMMARY:Open Mic Night - Wednesday May 6 at 8:00PM
DESCRIPTION:
URL:https://laughingskulllounge.com/event/open-mic-night-wednesday-may-6-2026-at-800pm/
LOCATION:Laughing Skull Lounge\, 878 Peachtree Street\, Atlanta\, GA\, 30309\, United States
END:VEVENT
BEGIN:VEVENT
DTSTART;TZID=America/New_York:20260507T200000
DTEND;TZID=America/New_York:20260507T213000
DTSTAMP:20260423T051125
CREATED:20260413T180415Z
LAST-MODIFIED:20260413T180415Z
UID:10001596-1778184000-1778189400@laughingskulllounge.com
SUMMARY:Best of Atlanta Comedy Showcase - Thursday May 7 at 8:00PM
DESCRIPTION:
URL:https://laughingskulllounge.com/event/best-of-atlanta-comedy-showcase-thursday-may-7-2026-at-800pm/
LOCATION:Laughing Skull Lounge\, 878 Peachtree Street\, Atlanta\, GA\, 30309\, United States
END:VEVENT
BEGIN:VEVENT
DTSTART;TZID=America/New_York:20260508T200000
DTEND;TZID=America/New_York:20260508T213000
DTSTAMP:20260423T051125
CREATED:20260413T213447Z
LAST-MODIFIED:20260413T213447Z
UID:10001610-1778270400-1778275800@laughingskulllounge.com
SUMMARY:Best of Atlanta Comedy Showcase - Friday May 8 at 8:00pm
DESCRIPTION:
URL:https://laughingskulllounge.com/event/best-of-atlanta-comedy-showcase-friday-may-8-2026-at-800pm/
LOCATION:Laughing Skull Lounge\, 878 Peachtree Street\, Atlanta\, GA\, 30309\, United States
END:VEVENT
BEGIN:VEVENT
DTSTART;TZID=America/New_York:20260508T223000
DTEND;TZID=America/New_York:20260508T233000
DTSTAMP:20260423T051125
CREATED:20260413T214123Z
LAST-MODIFIED:20260413T214123Z
UID:10001611-1778279400-1778283000@laughingskulllounge.com
SUMMARY:Best of Atlanta Comedy Showcase - Friday May 8 at 10:30PM
DESCRIPTION:
URL:https://laughingskulllounge.com/event/best-of-atlanta-comedy-showcase-friday-may-8-2026-at-1030pm/
LOCATION:Laughing Skull Lounge\, 878 Peachtree Street\, Atlanta\, GA\, 30309\, United States
END:VEVENT
BEGIN:VEVENT
DTSTART;TZID=America/New_York:20260509T173000
DTEND;TZID=America/New_York:20260509T183000
DTSTAMP:20260423T051125
CREATED:20260414T171743Z
LAST-MODIFIED:20260414T171743Z
UID:10001619-1778347800-1778351400@laughingskulllounge.com
SUMMARY:Best of Atlanta Comedy Showcase - Saturday May 9 at 5:30PM
DESCRIPTION:
URL:https://laughingskulllounge.com/event/best-of-atlanta-comedy-showcase-saturday-may-9-2026-at-530pm/
LOCATION:Laughing Skull Lounge\, 878 Peachtree Street\, Atlanta\, GA\, 30309\, United States
END:VEVENT
BEGIN:VEVENT
DTSTART;TZID=America/New_York:20260509T200000
DTEND;TZID=America/New_York:20260509T213000
DTSTAMP:20260423T051125
CREATED:20260414T183645Z
LAST-MODIFIED:20260414T183645Z
UID:10001623-1778356800-1778362200@laughingskulllounge.com
SUMMARY:Best of Atlanta Comedy Showcase - Saturday May 9 at 8:00PM
DESCRIPTION:
URL:https://laughingskulllounge.com/event/best-of-atlanta-comedy-showcase-saturday-may-9-2026-at-800pm/
LOCATION:Laughing Skull Lounge\, 878 Peachtree Street\, Atlanta\, GA\, 30309\, United States
END:VEVENT
BEGIN:VEVENT
DTSTART;TZID=America/New_York:20260509T223000
DTEND;TZID=America/New_York:20260509T233000
DTSTAMP:20260423T051125
CREATED:20260414T192357Z
LAST-MODIFIED:20260414T192357Z
UID:10001627-1778365800-1778369400@laughingskulllounge.com
SUMMARY:Best of Atlanta Comedy Showcase - Saturday May 9 at 10:30PM
DESCRIPTION:
URL:https://laughingskulllounge.com/event/best-of-atlanta-comedy-showcase-saturday-may-9-2026-at-1030pm/
LOCATION:Laughing Skull Lounge\, 878 Peachtree Street\, Atlanta\, GA\, 30309\, United States
END:VEVENT
BEGIN:VEVENT
DTSTART;TZID=America/New_York:20260510T193000
DTEND;TZID=America/New_York:20260510T213000
DTSTAMP:20260423T051125
CREATED:20260413T193009Z
LAST-MODIFIED:20260413T193009Z
UID:10001606-1778441400-1778448600@laughingskulllounge.com
SUMMARY:Best Of Atlanta Comedy Showcase - Sunday May 10 at 7:30pm
DESCRIPTION:
URL:https://laughingskulllounge.com/event/best-of-atlanta-comedy-showcase-sunday-may-10-2026-at-730pm/
LOCATION:Laughing Skull Lounge\, 878 Peachtree Street\, Atlanta\, GA\, 30309\, United States
END:VEVENT
BEGIN:VEVENT
DTSTART;TZID=America/New_York:20260511T200000
DTEND;TZID=America/New_York:20260511T213000
DTSTAMP:20260423T051125
CREATED:20260325T234550Z
LAST-MODIFIED:20260325T234550Z
UID:10001585-1778529600-1778535000@laughingskulllounge.com
SUMMARY:Open Mic Night - Monday May 11 at 8:00PM
DESCRIPTION:
URL:https://laughingskulllounge.com/event/open-mic-night-monday-may-11-2026-at-800pm/
LOCATION:Laughing Skull Lounge\, 878 Peachtree Street\, Atlanta\, GA\, 30309\, United States
END:VEVENT
END:VCALENDAR